BEGIN:VCALENDAR
VERSION:2.0
PRODID:-//CERN//INDICO//EN
BEGIN:VEVENT
SUMMARY:Cleanliness Protocol Training
DTSTART:20260423T123000Z
DTEND:20260423T140000Z
DTSTAMP:20260419T233200Z
UID:indico-event-886@indico.iter.org
DESCRIPTION:https://indico.iter.org/event/886/
LOCATION:Meeting Room 80.1 / 201
URL:https://indico.iter.org/event/886/
END:VEVENT
END:VCALENDAR
