BEGIN:VCALENDAR
VERSION:2.0
PRODID:-//CERN//INDICO//EN
BEGIN:VEVENT
SUMMARY:PTW and LOTO Training Level III
DTSTART:20260407T113000Z
DTEND:20260407T140000Z
DTSTAMP:20260419T233100Z
UID:indico-event-809@indico.iter.org
DESCRIPTION:This Training is for all personnel\, who has an approving role
  in ITER PTW (Member of Permit Verification Group (PVG)\, Permit Verifier\
 , Permit Authorizer\, Permit Issuer) and all persons\, who has a role in L
 OTO process (Isolation Authority\, Isolation Supervisor) (electrical and m
 echanical)\nLink to the instruction: ITER_D_BXWKNE - Working Instruction_P
 ermit To Work (PTW) and Lock Out Tag Out (LOTO) Certification\nFor any que
 stions please contact: Gregory Magan / Lea Bringuier / Kevin Barthelemy\n\
 nhttps://indico.iter.org/event/809/
LOCATION:B79/214
URL:https://indico.iter.org/event/809/
END:VEVENT
END:VCALENDAR
