BEGIN:VCALENDAR
VERSION:2.0
PRODID:-//CERN//INDICO//EN
BEGIN:VEVENT
SUMMARY:ePTW System Permit Requestor/Acceptor Training  +  Permit Holder
DTSTART:20260428T083000Z
DTEND:20260428T103000Z
DTSTAMP:20260419T233100Z
UID:indico-event-765@indico.iter.org
DESCRIPTION:https://indico.iter.org/event/765/
LOCATION:Building 80.1  Room 321
URL:https://indico.iter.org/event/765/
END:VEVENT
END:VCALENDAR
