BEGIN:VCALENDAR
VERSION:2.0
PRODID:-//CERN//INDICO//EN
BEGIN:VEVENT
SUMMARY:ePTW System Permit Requestor/Acceptor Training  +  Permit Holder -
  FRENCH ONLY
DTSTART:20260421T083000Z
DTEND:20260421T103000Z
DTSTAMP:20260419T233100Z
UID:indico-event-764@indico.iter.org
DESCRIPTION:https://indico.iter.org/event/764/
LOCATION:Building 80.1  Room 321
URL:https://indico.iter.org/event/764/
END:VEVENT
END:VCALENDAR
