BEGIN:VCALENDAR
VERSION:2.0
PRODID:-//CERN//INDICO//EN
BEGIN:VEVENT
SUMMARY:ePTW System Permit Requestor/Acceptor Training  +  Permit Holder
DTSTART:20260414T083000Z
DTEND:20260414T103000Z
DTSTAMP:20260419T233200Z
UID:indico-event-763@indico.iter.org
DESCRIPTION:https://indico.iter.org/event/763/
LOCATION:Building 80.1  Room 321
URL:https://indico.iter.org/event/763/
END:VEVENT
END:VCALENDAR
