BEGIN:VCALENDAR
VERSION:2.0
PRODID:-//CERN//INDICO//EN
BEGIN:VEVENT
SUMMARY:PTW and LOTO Training Level II
DTSTART:20260414T113000Z
DTEND:20260414T123000Z
DTSTAMP:20260420T024000Z
UID:indico-event-744@indico.iter.org
DESCRIPTION:This Training is for each Task Supervisor / Work Supervisor wh
 o acts with the responsibilities of Permit Holder in the field as per ITER
  PTW ProcedureLink to the instruction: ITER_D_BXWKNE - Working Instruction
 _Permit To Work (PTW) and Lock Out Tag Out (LOTO) CertificationFor any que
 stions please contact: Dmitrii Marinkevich / Gregory Magan / Lea Bringuier
  / Kevin Barthelemy\n\nhttps://indico.iter.org/event/744/
LOCATION:B79/214
URL:https://indico.iter.org/event/744/
END:VEVENT
END:VCALENDAR
